BEGIN:VCALENDAR
VERSION:2.0
PRODID:-//eventon.com NONSGML v1.0//EN
CALSCALE:GREGORIAN
METHOD:PUBLISH
BEGIN:VEVENT
UID:69e9e891e81f8
DTSTAMP:20260423T093825Z
DTSTART:20240404T213000Z
DTEND:20240405T020000Z
LOCATION:
SUMMARY:Frank MC's Grey Team's "They Are Not Bulletproof" Gala at The Boca Raton Resort
DESCRIPTION:Frank MC&#8217;s Grey Team&#8217;s &#8220;They Are Not Bulletpr
 oof&#8221; Gala at The Boca Raton Resort\,  Thursday\,  April 4\,  5:30pm. 
 Get your tickets at TheyAreNotBulletproof.com before they sell out! Grey Te
 am’s comprehensive health and wellness programs heal the invisible wounds
  of war including traumatic brain injuries\,  post-traumatic stress disorde
 r\,  chronic pain\,  self-medication\, [..]\nhttps://frank-mckinney.com/eve
 nts/frank-mcs-grey-teams-they-are-not-bulletproof-gala-at-the-boca-raton-re
 sort-copy/
URL:https://frank-mckinney.com/events/frank-mcs-grey-teams-they-are-not-bulletproof-gala-at-the-boca-raton-resort-copy/
END:VEVENT
END:VCALENDAR