BEGIN:VCALENDAR
VERSION:2.0
PRODID:-//eventon.com NONSGML v1.0//EN
CALSCALE:GREGORIAN
METHOD:PUBLISH
BEGIN:VEVENT
UID:69ea0013d44cd
DTSTAMP:20260423T111843Z
DTSTART:20240424T220000Z
DTEND:20240425T000000Z
LOCATION:
SUMMARY:Book Launch Party! Aspirational Thoughts • Inspirational Images\,  Boca Museum of Art\,  April 24\,  6-8pm
DESCRIPTION:The party is free! Voluntary donations to Caring House Project:
  CHPF.org or at the door Donors receive an autographed copy of Aspirationa
 l Thoughts • Inspirational Images Boca Raton Museum of Art\,  501 Plaza R
 eal\,  Boca Raton\,  FL  RSVP here (scroll 1/2 way down the page) • “A
 rt is born” live metamorphosis[..]\nhttps://frank-mckinney.com/events/boo
 k-launch-party-aspirational-thoughts-inspirational-images-boca-museum-of-ar
 t-april-24-6-8pm/
URL:https://frank-mckinney.com/events/book-launch-party-aspirational-thoughts-inspirational-images-boca-museum-of-art-april-24-6-8pm/
END:VEVENT
END:VCALENDAR