BEGIN:VCALENDAR
VERSION:2.0
PRODID:-//eventon.com NONSGML v1.0//EN
CALSCALE:GREGORIAN
METHOD:PUBLISH
BEGIN:VEVENT
UID:69ea01df5b8db
DTSTAMP:20260423T112623Z
DTSTART:20240411T230000Z
DTEND:20240412T020000Z
LOCATION:
SUMMARY:Frank as celebrity guest auctioneer at Mar-a-Lago!
DESCRIPTION:Frank will be the celebrity guest auctioneer at the America Fir
 st Gala at Mar-a-Lago benefitting Grey Team!\nhttps://frank-mckinney.com/ev
 ents/frank-as-celebrity-guest-auctioneer-at-mar-a-lago/
URL:https://frank-mckinney.com/events/frank-as-celebrity-guest-auctioneer-at-mar-a-lago/
END:VEVENT
END:VCALENDAR