BEGIN:VCALENDAR
VERSION:2.0
PRODID:-//eventon.com NONSGML v1.0//EN
CALSCALE:GREGORIAN
METHOD:PUBLISH
BEGIN:VEVENT
UID:69e9e8eaef1fc
DTSTAMP:20260423T093954Z
DTSTART:19700101
DTEND:19700102
LOCATION:
SUMMARY:Aspirational Thoughts • Inspirational Images out on Amazon/Audible!
DESCRIPTION:Learn more about Aspirational Thoughts • Inspirational Images
  &#8211; An Art Gallery &amp; Teacher\,  A Photography Exhibit &amp; Mentor
 . Here&#8217;s the Amazon link. Aspirational Thoughts • Inspirational Ima
 ges contains 135 contemplative photographs + 261 evocative thoughts\,  quot
 es\,  and ideas curated over 10 meditative chapters: ACTION\,  INTROSPECT\,
   BREATHE\,  LAUGH\,  LEGACY\,  DEATH\, [..]\nhttps://frank-mckinney.com/ev
 ents/aspirational-thoughts-inspirational-images-out-april-1-on-amazon/
URL:https://frank-mckinney.com/events/aspirational-thoughts-inspirational-images-out-april-1-on-amazon/
END:VEVENT
END:VCALENDAR