BEGIN:VCALENDAR
VERSION:2.0
PRODID:-//eventon.com NONSGML v1.0//EN
CALSCALE:GREGORIAN
METHOD:PUBLISH
BEGIN:VEVENT
UID:69e9e8c09efe2
DTSTAMP:20260423T093912Z
DTSTART:19700101
DTEND:19700102
LOCATION:
SUMMARY:Aspirational Thoughts Book Tour: 85 Venues\,  70 Days\,  60 Cities\,  11\, 990 Miles
DESCRIPTION:The Aspirational Thoughts • Inspirational Images Book Tour 
 stopped at 85 homeless shelters\,  soup kitchens\,  food pantries\,  vetera
 ns’ facilities\,  abused women’s shelters\,  juvenile detention centers
 \,  treatment centers\,  family shelters\,  respite facilities\,  HIV posit
 ive-only shelters\,  Salvation Army’s\,  business organizations\,  church
  groups\,  LQBTQ-only shelters\,  schools\,  hospitals\,  TV stations\,  ra
 dio stations\,  podcasts\,  and bookstores to[..]\nhttps://frank-mckinney.c
 om/events/aspirational-thoughts-book-tour-33-states-52-cities-10-110-miles/
URL:https://frank-mckinney.com/events/aspirational-thoughts-book-tour-33-states-52-cities-10-110-miles/
END:VEVENT
END:VCALENDAR