BEGIN:VCALENDAR
VERSION:2.0
PRODID:-//eventon.com NONSGML v1.0//EN
CALSCALE:GREGORIAN
METHOD:PUBLISH
BEGIN:VEVENT
UID:69e9e8e4cfa46
DTSTAMP:20260423T093948Z
DTSTART:20240727T200000Z
DTEND:20240728T213000Z
LOCATION:
SUMMARY:Frank shares about his epic 85-venue\,  70-day\,  60-city\,  11\, 990-mile Aspirational Thoughts Book Tour!
DESCRIPTION:Frank shares about his epic 85-venue\,  70-day\,  60-city\,  11
 \, 990-mile Aspirational Thoughts Book Tour! St. Vincent Ferrer Church\,  
 840 George Bush Blvd\,  Delray Beach Sat\,  July 27: 4pm mass Sun\,  July 2
 8: 7am\,  9am\,  11am &amp; 5:30pm masses Come learn + apply what Frank exp
 erienced!\nhttps://frank-mckinney.com/events/frank-shares-about-his-epic-85
 -venue-70-day-60-city-11990-mile-aspirational-thoughts-book-tour/
URL:https://frank-mckinney.com/events/frank-shares-about-his-epic-85-venue-70-day-60-city-11990-mile-aspirational-thoughts-book-tour/
END:VEVENT
END:VCALENDAR