BEGIN:VCALENDAR
VERSION:2.0
PRODID:-//eventon.com NONSGML v1.0//EN
CALSCALE:GREGORIAN
METHOD:PUBLISH
BEGIN:VEVENT
UID:69e9e8920bc51
DTSTAMP:20260423T093826Z
DTSTART:20241023T110000Z
DTEND:20241123T040000Z
LOCATION:
SUMMARY:A subtle clue shared on eleven twenty-two...
DESCRIPTION:a subtle clue for all of you (found by only a few) to something
  completely new that’ll be hard to see through an impossibility come true
 ? the search starts not ten\,  but eleven twenty-two…\nhttps://frank-mcki
 nney.com/events/a-subtle-clue-coming-eleven-twenty-two/
URL:https://frank-mckinney.com/events/a-subtle-clue-coming-eleven-twenty-two/
END:VEVENT
END:VCALENDAR